BEGIN:VCALENDAR
VERSION:2.0
PRODID:spatie/icalendar-generator
DESCRIPTION:NPO法人 i-made-it！のイベント
X-WR-CALDESC:NPO法人 i-made-it！のイベント
REFRESH-INTERVAL;VALUE=DURATION:PT1440M
X-PUBLISHED-TTL:PT1440M
BEGIN:VTIMEZONE
TZID:Asia/Tokyo
BEGIN:STANDARD
DTSTART:20240312T070000Z
TZOFFSETFROM:+0900
TZOFFSETTO:+0900
END:STANDARD
END:VTIMEZONE
BEGIN:VTIMEZONE
TZID:UTC
BEGIN:STANDARD
DTSTART:20250729T102239Z
TZOFFSETFROM:+0000
TZOFFSETTO:+0000
END:STANDARD
END:VTIMEZONE
BEGIN:VEVENT
UID:72-25
DTSTAMP:20260425T102239Z
SUMMARY:名古屋クリエーターズマーケット
LOCATION:ポートメッセなごや 港区金城ふ頭2丁目2  名古屋
 市 愛知県 455-0848
ORGANIZER;CN=tamaneji:MAILTO:admin@i-made-it.jp
DTSTART;TZID=Asia/Tokyo:20241207T070000
DTEND;TZID=Asia/Tokyo:20241207T185900
X-ALT-DESC;FMTTYPE=TEXT/HTML:
CATEGORIES:名古屋市
URL;VALUE=URI:https://i-made-it.jp/mc-events/%e5%90%8d%e5%8f%a4%e5%b1%8b%e3
 %82%af%e3%83%aa%e3%82%a8%e3%83%bc%e3%82%bf%e3%83%bc%e3%82%ba%e3%83%9e%e3%8
 3%bc%e3%82%b1%e3%83%83%e3%83%88/
METHOD:PUBLISH
END:VEVENT
END:VCALENDAR