BEGIN:VCALENDAR
VERSION:2.0
PRODID:spatie/icalendar-generator
DESCRIPTION:NPO法人 i-made-it！のイベント
X-WR-CALDESC:NPO法人 i-made-it！のイベント
REFRESH-INTERVAL;VALUE=DURATION:PT1440M
X-PUBLISHED-TTL:PT1440M
BEGIN:VTIMEZONE
TZID:Asia/Tokyo
BEGIN:STANDARD
DTSTART:20240426T083000Z
TZOFFSETFROM:+0900
TZOFFSETTO:+0900
END:STANDARD
END:VTIMEZONE
BEGIN:VTIMEZONE
TZID:UTC
BEGIN:STANDARD
DTSTART:20250729T120636Z
TZOFFSETFROM:+0000
TZOFFSETTO:+0000
END:STANDARD
END:VTIMEZONE
BEGIN:VEVENT
UID:55-19
DTSTAMP:20260425T120636Z
SUMMARY:弘法市【東寺】
LOCATION:東寺 南区九条町１  京都市 京都府 601-8473
ORGANIZER;CN=tamaneji:MAILTO:admin@i-made-it.jp
DTSTART;TZID=Asia/Tokyo:20250121T083000
DTEND;TZID=Asia/Tokyo:20250121T173000
X-ALT-DESC;FMTTYPE=TEXT/HTML:
CATEGORIES:南区
URL;VALUE=URI:https://i-made-it.jp/mc-events/%e5%bc%98%e6%b3%95%e5%b8%82%e3
 %80%90%e6%9d%b1%e5%af%ba%e3%80%91/
METHOD:PUBLISH
END:VEVENT
END:VCALENDAR