BEGIN:VCALENDAR
VERSION:2.0
PRODID:spatie/icalendar-generator
DESCRIPTION:NPO法人 i-made-it！のイベント
X-WR-CALDESC:NPO法人 i-made-it！のイベント
REFRESH-INTERVAL;VALUE=DURATION:PT1440M
X-PUBLISHED-TTL:PT1440M
BEGIN:VTIMEZONE
TZID:Asia/Tokyo
BEGIN:STANDARD
DTSTART:20241128T070000Z
TZOFFSETFROM:+0900
TZOFFSETTO:+0900
END:STANDARD
END:VTIMEZONE
BEGIN:VTIMEZONE
TZID:UTC
BEGIN:STANDARD
DTSTART:20250728T033244Z
TZOFFSETFROM:+0000
TZOFFSETTO:+0000
END:STANDARD
END:VTIMEZONE
BEGIN:VEVENT
UID:52-16
DTSTAMP:20260424T033244Z
SUMMARY:天神市【北野天満宮】
LOCATION:北野天満宮 上京区馬喰町  京都市 京都府 602-8386
ORGANIZER;CN=tamaneji:MAILTO:admin@i-made-it.jp
DTSTART;TZID=Asia/Tokyo:20250825T070000
DTEND;TZID=Asia/Tokyo:20250825T200000
X-ALT-DESC;FMTTYPE=TEXT/HTML:
CATEGORIES:上京区
URL;VALUE=URI:https://i-made-it.jp/mc-events/%e5%a4%a9%e7%a5%9e%e5%b8%82%e3
 %80%90%e5%8c%97%e9%87%8e%e5%a4%a9%e6%ba%80%e5%ae%ae%e3%80%91/
METHOD:PUBLISH
END:VEVENT
END:VCALENDAR