BEGIN:VCALENDAR
VERSION:2.0
PRODID:spatie/icalendar-generator
DESCRIPTION:NPO法人 i-made-it！のイベント
X-WR-CALDESC:NPO法人 i-made-it！のイベント
REFRESH-INTERVAL;VALUE=DURATION:PT1440M
X-PUBLISHED-TTL:PT1440M
BEGIN:VTIMEZONE
TZID:Asia/Tokyo
BEGIN:STANDARD
DTSTART:20240508T090000Z
TZOFFSETFROM:+0900
TZOFFSETTO:+0900
END:STANDARD
END:VTIMEZONE
BEGIN:VTIMEZONE
TZID:UTC
BEGIN:STANDARD
DTSTART:20250729T193709Z
TZOFFSETFROM:+0000
TZOFFSETTO:+0000
END:STANDARD
END:VTIMEZONE
BEGIN:VEVENT
UID:36-12
DTSTAMP:20260425T193709Z
SUMMARY:第14回 上賀茂・節分手づくり市
LOCATION:上賀茂神社･境内 北区上賀茂本山３３９  京都市
  京都府 603-8047
ORGANIZER;CN=tamaneji:MAILTO:admin@i-made-it.jp
DTSTART;TZID=Asia/Tokyo:20250202T090000
DTEND;TZID=Asia/Tokyo:20250202T150000
X-ALT-DESC;FMTTYPE=TEXT/HTML:
CATEGORIES:北区
URL;VALUE=URI:https://i-made-it.jp/mc-events/%e7%ac%ac14%e5%9b%9e-%e4%b8%8a
 %e8%b3%80%e8%8c%82%e3%83%bb%e7%af%80%e5%88%86%e6%89%8b%e3%81%a5%e3%81%8f%e
 3%82%8a%e5%b8%82/
METHOD:PUBLISH
END:VEVENT
END:VCALENDAR