BEGIN:VCALENDAR
VERSION:2.0
PRODID:spatie/icalendar-generator
DESCRIPTION:NPO法人 i-made-it！のイベント
X-WR-CALDESC:NPO法人 i-made-it！のイベント
REFRESH-INTERVAL;VALUE=DURATION:PT1440M
X-PUBLISHED-TTL:PT1440M
BEGIN:VTIMEZONE
TZID:Asia/Tokyo
BEGIN:STANDARD
DTSTART:20240619T100000Z
TZOFFSETFROM:+0900
TZOFFSETTO:+0900
END:STANDARD
END:VTIMEZONE
BEGIN:VTIMEZONE
TZID:UTC
BEGIN:STANDARD
DTSTART:20250728T084505Z
TZOFFSETFROM:+0000
TZOFFSETTO:+0000
END:STANDARD
END:VTIMEZONE
BEGIN:VEVENT
UID:22-8
DTSTAMP:20260424T084505Z
SUMMARY:けいはんな記念公園クラフトフェスタ
LOCATION:けいはんな記念公園芝生広場 精華町精華台６丁
 目１  相楽郡 京都府 619-0238
ORGANIZER;CN=tamaneji:MAILTO:admin@i-made-it.jp
DTSTART;TZID=Asia/Tokyo:20250316T100000
DTEND;TZID=Asia/Tokyo:20250316T160000
X-ALT-DESC;FMTTYPE=TEXT/HTML:けいはんな学研都市の交流拠点で
 す。世界から地域に至る幅広い方々の憩いの場となっ
 ており、年間60万人以上の方にご&amp;hellip\;
CATEGORIES:京都府
URL;VALUE=URI:https://i-made-it.jp/mc-events/%e3%81%91%e3%81%84%e3%81%af%e3
 %82%93%e3%81%aa%e8%a8%98%e5%bf%b5%e5%85%ac%e5%9c%92%e3%82%af%e3%83%a9%e3%8
 3%95%e3%83%88%e3%83%95%e3%82%a7%e3%82%b9%e3%82%bf/
METHOD:PUBLISH
END:VEVENT
END:VCALENDAR